BEGIN:VCALENDAR
VERSION:2.0
PRODID:SchoolNow
CALSCALE:GREGORIAN
BEGIN:VEVENT
UID:803490c8-aee0-11ed-aeb5-0ee3532cba39
DTSTAMP:20230217T163116Z
SUMMARY:Walking & Toning - Mar. 29th
URL;VALUE=URI:https://www.wildernesslakecdd.org/calendar/3753616/walking-to
 ning-mar-29th
DTSTART:20230329T133000Z
DTEND:20230329T144500Z
END:VEVENT
END:VCALENDAR
