BEGIN:VCALENDAR
VERSION:2.0
PRODID:SchoolNow
CALSCALE:GREGORIAN
BEGIN:VEVENT
UID:65281458-aee0-11ed-a1bb-0ee3532cba39
DTSTAMP:20230217T163031Z
SUMMARY:Walking & Toning - Mar. 27th
URL;VALUE=URI:https://www.wildernesslakecdd.org/calendar/3753615/walking-to
 ning-mar-27th
DTSTART:20230327T133000Z
DTEND:20230327T144500Z
END:VEVENT
END:VCALENDAR
