BEGIN:VCALENDAR
VERSION:2.0
PRODID:SchoolNow
CALSCALE:GREGORIAN
BEGIN:VEVENT
UID:3a763f5a-aee0-11ed-837a-0ee3532cba39
DTSTAMP:20230217T162919Z
SUMMARY:Walking & Toning - Mar. 24th
URL;VALUE=URI:https://www.wildernesslakecdd.org/calendar/3753614/walking-to
 ning-mar-24th
DTSTART:20230324T133000Z
DTEND:20230324T144500Z
END:VEVENT
END:VCALENDAR
