BEGIN:VCALENDAR
VERSION:2.0
PRODID:SchoolNow
CALSCALE:GREGORIAN
BEGIN:VEVENT
UID:2eec0426-aee0-11ed-b5f4-0ee3532cba39
DTSTAMP:20230217T162900Z
SUMMARY:Walking & Toning - Mar. 22nd
URL;VALUE=URI:https://www.wildernesslakecdd.org/calendar/3753613/walking-to
 ning-mar-22nd
DTSTART:20230322T133000Z
DTEND:20230322T144500Z
END:VEVENT
END:VCALENDAR
