BEGIN:VCALENDAR
VERSION:2.0
PRODID:SchoolNow
CALSCALE:GREGORIAN
BEGIN:VEVENT
UID:23aa057c-aee0-11ed-b986-0ee3532cba39
DTSTAMP:20230217T162841Z
SUMMARY:Walking & Toning - Mar. 20th
URL;VALUE=URI:https://www.wildernesslakecdd.org/calendar/3753612/walking-to
 ning-mar-20th
DTSTART:20230320T133000Z
DTEND:20230320T144500Z
END:VEVENT
END:VCALENDAR
