BEGIN:VCALENDAR
VERSION:2.0
PRODID:SchoolNow
CALSCALE:GREGORIAN
BEGIN:VEVENT
UID:0e9cf838-aee0-11ed-bea6-0ee3532cba39
DTSTAMP:20230217T162805Z
SUMMARY:Walking & Toning - Mar. 17th
URL;VALUE=URI:https://www.wildernesslakecdd.org/calendar/3753611/walking-to
 ning-mar-17th
DTSTART:20230317T133000Z
DTEND:20230317T144500Z
END:VEVENT
END:VCALENDAR
