BEGIN:VCALENDAR
VERSION:2.0
PRODID:SchoolNow
CALSCALE:GREGORIAN
BEGIN:VEVENT
UID:0168c9a8-aee0-11ed-a8fc-0ee3532cba39
DTSTAMP:20230217T162743Z
SUMMARY:Walking & Toning - Mar. 15th
URL;VALUE=URI:https://www.wildernesslakecdd.org/calendar/3753610/walking-to
 ning-mar-15th
DTSTART:20230315T133000Z
DTEND:20230315T144500Z
END:VEVENT
END:VCALENDAR
