BEGIN:VCALENDAR
VERSION:2.0
PRODID:SchoolNow
CALSCALE:GREGORIAN
BEGIN:VEVENT
UID:f2ab77b2-aedf-11ed-ac2c-0ee3532cba39
DTSTAMP:20230217T162719Z
SUMMARY:Walking & Toning - Mar. 13th
URL;VALUE=URI:https://www.wildernesslakecdd.org/calendar/3753609/walking-to
 ning-mar-13th
DTSTART:20230313T133000Z
DTEND:20230313T144500Z
END:VEVENT
END:VCALENDAR
