BEGIN:VCALENDAR
VERSION:2.0
PRODID:SchoolNow
CALSCALE:GREGORIAN
BEGIN:VEVENT
UID:e4bff4ac-aedf-11ed-8680-0ee3532cba39
DTSTAMP:20230217T162655Z
SUMMARY:Walking & Toning - Mar. 10th
URL;VALUE=URI:https://www.wildernesslakecdd.org/calendar/3753608/walking-to
 ning-mar-10th
DTSTART:20230310T143000Z
DTEND:20230310T154500Z
END:VEVENT
END:VCALENDAR
