BEGIN:VCALENDAR
VERSION:2.0
PRODID:SchoolNow
CALSCALE:GREGORIAN
BEGIN:VEVENT
UID:d6cc97ec-aedf-11ed-a14c-0ee3532cba39
DTSTAMP:20230217T162632Z
SUMMARY:Walking & Toning - Mar. 8th
URL;VALUE=URI:https://www.wildernesslakecdd.org/calendar/3753607/walking-to
 ning-mar-8th
DTSTART:20230308T143000Z
DTEND:20230308T154500Z
END:VEVENT
END:VCALENDAR
