BEGIN:VCALENDAR
VERSION:2.0
PRODID:SchoolNow
CALSCALE:GREGORIAN
BEGIN:VEVENT
UID:cb651dac-aedf-11ed-8f67-0ee3532cba39
DTSTAMP:20230217T162613Z
SUMMARY:Walking & Toning - Mar. 6th
URL;VALUE=URI:https://www.wildernesslakecdd.org/calendar/3753606/walking-to
 ning-mar-6th
DTSTART:20230306T143000Z
DTEND:20230306T154500Z
END:VEVENT
END:VCALENDAR
