BEGIN:VCALENDAR
VERSION:2.0
PRODID:SchoolNow
CALSCALE:GREGORIAN
BEGIN:VEVENT
UID:bc8cae8a-aedf-11ed-952b-0ee3532cba39
DTSTAMP:20230217T162548Z
SUMMARY:Walking & Toning - Mar. 3rd
URL;VALUE=URI:https://www.wildernesslakecdd.org/calendar/3753605/walking-to
 ning-mar-3rd
DTSTART:20230303T143000Z
DTEND:20230303T154500Z
END:VEVENT
END:VCALENDAR
