BEGIN:VCALENDAR
VERSION:2.0
PRODID:SchoolNow
CALSCALE:GREGORIAN
BEGIN:VEVENT
UID:6c45c6e6-aedf-11ed-9790-0ee3532cba39
DTSTAMP:20230219T003323Z
SUMMARY:Craft Fair
URL;VALUE=URI:https://www.wildernesslakecdd.org/calendar/3753603/craft-fair
DTSTART:20231104T150000Z
DTEND:20231104T200000Z
END:VEVENT
END:VCALENDAR
