BEGIN:VCALENDAR
VERSION:2.0
PRODID:SchoolNow
CALSCALE:GREGORIAN
BEGIN:VEVENT
UID:0c82e13c-ade8-11ed-ac71-025cb2ed80c1
DTSTAMP:20230216T105247Z
SUMMARY:Craft Fair
URL;VALUE=URI:https://www.wildernesslakecdd.org/calendar/3749922/craft-fair
DTSTART:20230715T150000Z
DTEND:20230715T200000Z
END:VEVENT
END:VCALENDAR
