BEGIN:VCALENDAR
VERSION:2.0
PRODID:SchoolNow
CALSCALE:GREGORIAN
BEGIN:VEVENT
UID:ebe9f55a-ade7-11ed-b392-025cb2ed80c1
DTSTAMP:20230216T160055Z
SUMMARY:Annual Fall Community Garage Sale
URL;VALUE=URI:https://www.wildernesslakecdd.org/calendar/3749921/annual-fal
 l-community-garage-sale
DTSTART:20231021T120000Z
DTEND:20231021T160000Z
END:VEVENT
END:VCALENDAR
