BEGIN:VCALENDAR
VERSION:2.0
PRODID:SchoolNow
CALSCALE:GREGORIAN
BEGIN:VEVENT
UID:c816b96a-ade7-11ed-b4c7-025cb2ed80c1
DTSTAMP:20230216T160127Z
SUMMARY:Annual Spring Community Garage Sale
URL;VALUE=URI:https://www.wildernesslakecdd.org/calendar/3749920/annual-spr
 ing-community-garage-sale
DTSTART:20230415T120000Z
DTEND:20230415T160000Z
END:VEVENT
END:VCALENDAR
