BEGIN:VCALENDAR
VERSION:2.0
PRODID:SchoolNow
CALSCALE:GREGORIAN
BEGIN:VEVENT
UID:772bd92c-a8b0-11ed-b044-026c4bfeeff7
DTSTAMP:20230209T193247Z
SUMMARY:CDD Board Meeting Continuation -  Feb. 2023
LOCATION:The Preserve at Wilderness Lake Lodge\, located at 21320 Wildernes
 s Lake Boulevard\, Land O' Lakes\, FL 34637.
URL;VALUE=URI:https://www.wildernesslakecdd.org/calendar/3731591/cdd-board-
 meeting-continuation-feb-2023
DTSTART:20230215T200000Z
DTEND:20230215T233000Z
END:VEVENT
END:VCALENDAR
