BEGIN:VCALENDAR
VERSION:2.0
PRODID:SchoolNow
CALSCALE:GREGORIAN
BEGIN:VEVENT
UID:be41b096-9a6b-11ed-ae30-02bba56ae4a3
DTSTAMP:20231207T175916Z
SUMMARY:Menorah Lighting
URL;VALUE=URI:https://www.wildernesslakecdd.org/calendar/3681482/menorah-li
 ghting
DTSTART:20231207T230000Z
DTEND:20231208T010000Z
END:VEVENT
END:VCALENDAR
