BEGIN:VCALENDAR
VERSION:2.0
PRODID:SchoolNow
CALSCALE:GREGORIAN
BEGIN:VEVENT
UID:37839038-9a6b-11ed-a8ab-02bba56ae4a3
DTSTAMP:20230122T154120Z
SUMMARY:Halloween Parade
URL;VALUE=URI:https://www.wildernesslakecdd.org/calendar/3681477/halloween-
 parade
DTSTART:20231031T210000Z
DTEND:20231031T220000Z
END:VEVENT
END:VCALENDAR
