BEGIN:VCALENDAR
VERSION:2.0
PRODID:SchoolNow
CALSCALE:GREGORIAN
BEGIN:VEVENT
UID:08ec15a6-9a6b-11ed-bf14-02bba56ae4a3
DTSTAMP:20230122T154002Z
SUMMARY:Labor Day - POOL
URL;VALUE=URI:https://www.wildernesslakecdd.org/calendar/3681475/labor-day-
 pool
DTSTART:20230904T160000Z
DTEND:20230904T180000Z
END:VEVENT
END:VCALENDAR
