BEGIN:VCALENDAR
VERSION:2.0
PRODID:SchoolNow
CALSCALE:GREGORIAN
BEGIN:VEVENT
UID:e51c3d2c-9a6a-11ed-b5bd-02bba56ae4a3
DTSTAMP:20230122T153901Z
SUMMARY:Back to School Pool Party - POOL
URL;VALUE=URI:https://www.wildernesslakecdd.org/calendar/3681474/back-to-sc
 hool-pool-party-pool
DTSTART:20230812T160000Z
DTEND:20230812T180000Z
END:VEVENT
END:VCALENDAR
