BEGIN:VCALENDAR
VERSION:2.0
PRODID:SchoolNow
CALSCALE:GREGORIAN
BEGIN:VEVENT
UID:bfd9f356-9a6a-11ed-8aeb-02bba56ae4a3
DTSTAMP:20230122T153759Z
SUMMARY:4th of July - POOL
URL;VALUE=URI:https://www.wildernesslakecdd.org/calendar/3681473/4th-of-jul
 y-pool
DTSTART:20230704T160000Z
DTEND:20230704T180000Z
END:VEVENT
END:VCALENDAR
