BEGIN:VCALENDAR
VERSION:2.0
PRODID:SchoolNow
CALSCALE:GREGORIAN
BEGIN:VEVENT
UID:a3c4b142-9a6a-11ed-9bc0-02bba56ae4a3
DTSTAMP:20230122T153712Z
SUMMARY:Father’s Day Celebration
URL;VALUE=URI:https://www.wildernesslakecdd.org/calendar/3681472/father-s-d
 ay-celebration
DTSTART:20230617T160000Z
DTEND:20230617T180000Z
END:VEVENT
END:VCALENDAR
