BEGIN:VCALENDAR
VERSION:2.0
PRODID:SchoolNow
CALSCALE:GREGORIAN
BEGIN:VEVENT
UID:8acd811e-9a6a-11ed-89fd-02bba56ae4a3
DTSTAMP:20230122T153630Z
SUMMARY:Out of School Summer Celebration- POOL
URL;VALUE=URI:https://www.wildernesslakecdd.org/calendar/3681471/out-of-sch
 ool-summer-celebration-pool
DTSTART:20230603T160000Z
DTEND:20230603T180000Z
END:VEVENT
END:VCALENDAR
