BEGIN:VCALENDAR
VERSION:2.0
PRODID:SchoolNow
CALSCALE:GREGORIAN
BEGIN:VEVENT
UID:662234f4-9a6a-11ed-b397-02bba56ae4a3
DTSTAMP:20230122T153528Z
SUMMARY:Memorial Day - POOL
URL;VALUE=URI:https://www.wildernesslakecdd.org/calendar/3681470/memorial-d
 ay-pool
DTSTART:20230529T160000Z
DTEND:20230529T180000Z
END:VEVENT
END:VCALENDAR
