BEGIN:VCALENDAR
VERSION:2.0
PRODID:SchoolNow
CALSCALE:GREGORIAN
BEGIN:VEVENT
UID:4bffbe66-9a6a-11ed-a227-02bba56ae4a3
DTSTAMP:20230122T153445Z
SUMMARY:Mother’s Day Celebration
URL;VALUE=URI:https://www.wildernesslakecdd.org/calendar/3681469/mother-s-d
 ay-celebration
DTSTART:20230513T160000Z
DTEND:20230513T190000Z
END:VEVENT
END:VCALENDAR
