BEGIN:VCALENDAR
VERSION:2.0
PRODID:SchoolNow
CALSCALE:GREGORIAN
BEGIN:VEVENT
UID:2bae79b8-9a6a-11ed-b248-02bba56ae4a3
DTSTAMP:20230315T192752Z
SUMMARY:Cinco de Mayo Celebration
URL;VALUE=URI:https://www.wildernesslakecdd.org/calendar/3681468/cinco-de-m
 ayo-celebration
DTSTART:20230505T230000Z
DTEND:20230506T003000Z
END:VEVENT
END:VCALENDAR
