BEGIN:VCALENDAR
VERSION:2.0
PRODID:SchoolNow
CALSCALE:GREGORIAN
BEGIN:VEVENT
UID:1136e3fe-9a6a-11ed-9040-02bba56ae4a3
DTSTAMP:20230122T153306Z
SUMMARY:Easter Celebration
URL;VALUE=URI:https://www.wildernesslakecdd.org/calendar/3681467/easter-cel
 ebration
DTSTART:20230408T143000Z
DTEND:20230408T190000Z
END:VEVENT
END:VCALENDAR
