BEGIN:VCALENDAR
VERSION:2.0
PRODID:SchoolNow
CALSCALE:GREGORIAN
BEGIN:VEVENT
UID:f995a028-9a69-11ed-b1ce-02bba56ae4a3
DTSTAMP:20230122T153226Z
SUMMARY:St. Patty’s Celebration with Jason Ensor
URL;VALUE=URI:https://www.wildernesslakecdd.org/calendar/3681466/st-patty-s
 -celebration-with-jason-ensor
DTSTART:20230317T224500Z
DTEND:20230318T003000Z
END:VEVENT
END:VCALENDAR
