BEGIN:VCALENDAR
VERSION:2.0
PRODID:SchoolNow
CALSCALE:GREGORIAN
BEGIN:VEVENT
UID:e3bc2538-9a69-11ed-b620-02bba56ae4a3
DTSTAMP:20230122T153150Z
SUMMARY:Jazz Event – Live Performance
URL;VALUE=URI:https://www.wildernesslakecdd.org/calendar/3681465/jazz-event
 -live-performance
DTSTART:20230304T190000Z
DTEND:20230304T210000Z
END:VEVENT
END:VCALENDAR
