BEGIN:VCALENDAR
VERSION:2.0
PRODID:SchoolNow
CALSCALE:GREGORIAN
BEGIN:VEVENT
UID:d25600de-9a69-11ed-b35a-02bba56ae4a3
DTSTAMP:20230122T153120Z
SUMMARY:GYM Refresh Celebration
URL;VALUE=URI:https://www.wildernesslakecdd.org/calendar/3681464/gym-refres
 h-celebration
DTSTART:20230304T160000Z
DTEND:20230304T180000Z
END:VEVENT
END:VCALENDAR
