BEGIN:VCALENDAR
VERSION:2.0
PRODID:SchoolNow
CALSCALE:GREGORIAN
BEGIN:VEVENT
UID:bd72d0ac-9a69-11ed-89f7-02bba56ae4a3
DTSTAMP:20230122T153045Z
SUMMARY:Elliott Smith Comedy Magician
URL;VALUE=URI:https://www.wildernesslakecdd.org/calendar/3681463/elliott-sm
 ith-comedy-magician
DTSTART:20230225T213000Z
DTEND:20230225T230000Z
END:VEVENT
END:VCALENDAR
