BEGIN:VCALENDAR
VERSION:2.0
PRODID:SchoolNow
CALSCALE:GREGORIAN
BEGIN:VEVENT
UID:a78cea70-9a69-11ed-a538-02bba56ae4a3
DTSTAMP:20230122T153009Z
SUMMARY:Love Is in The Air – Valentine Celebration
URL;VALUE=URI:https://www.wildernesslakecdd.org/calendar/3681462/love-is-in
 -the-air-valentine-celebration
DTSTART:20230211T233000Z
DTEND:20230212T023000Z
END:VEVENT
END:VCALENDAR
