BEGIN:VCALENDAR
VERSION:2.0
PRODID:SchoolNow
CALSCALE:GREGORIAN
BEGIN:VEVENT
UID:9185d016-9a69-11ed-9ae3-02bba56ae4a3
DTSTAMP:20230122T152932Z
SUMMARY:Jonny Bird – The Voice of New Vegas
URL;VALUE=URI:https://www.wildernesslakecdd.org/calendar/3681461/jonny-bird
 -the-voice-of-new-vegas
DTSTART:20230128T234500Z
DTEND:20230129T013000Z
END:VEVENT
END:VCALENDAR
