BEGIN:VCALENDAR
VERSION:2.0
PRODID:SchoolNow
CALSCALE:GREGORIAN
BEGIN:VEVENT
UID:574de06c-94d5-11ed-baa4-0ace1bdebf95
DTSTAMP:20230115T130606Z
SUMMARY:HOA Meeting - Feb. 28th
URL;VALUE=URI:https://www.wildernesslakecdd.org/calendar/3668367/hoa-meetin
 g-feb-28th
DTSTART:20230228T233000Z
DTEND:20230301T003000Z
END:VEVENT
END:VCALENDAR
