BEGIN:VCALENDAR
VERSION:2.0
PRODID:SchoolNow
CALSCALE:GREGORIAN
BEGIN:VEVENT
UID:352aa416-94d5-11ed-8d51-0ace1bdebf95
DTSTAMP:20230115T130455Z
SUMMARY:Art Class
URL;VALUE=URI:https://www.wildernesslakecdd.org/calendar/3668366/art-class
DTSTART:20230218T170000Z
DTEND:20230218T200000Z
END:VEVENT
END:VCALENDAR
