BEGIN:VCALENDAR
VERSION:2.0
PRODID:SchoolNow
CALSCALE:GREGORIAN
BEGIN:VEVENT
UID:06497316-94d5-11ed-aa78-0ace1bdebf95
DTSTAMP:20230115T130337Z
SUMMARY:Valentine Celebration
URL;VALUE=URI:https://www.wildernesslakecdd.org/calendar/3668365/valentine-
 celebration
DTSTART:20230211T233000Z
DTEND:20230212T023000Z
END:VEVENT
END:VCALENDAR
