BEGIN:VCALENDAR
VERSION:2.0
PRODID:SchoolNow
CALSCALE:GREGORIAN
BEGIN:VEVENT
UID:eb88e9e4-94d4-11ed-814a-0ace1bdebf95
DTSTAMP:20230115T130252Z
SUMMARY:Chatters - Feb. 15th
URL;VALUE=URI:https://www.wildernesslakecdd.org/calendar/3668364/chatters-f
 eb-15th
DTSTART:20230215T233000Z
DTEND:20230216T013000Z
END:VEVENT
END:VCALENDAR
