BEGIN:VCALENDAR
VERSION:2.0
PRODID:SchoolNow
CALSCALE:GREGORIAN
BEGIN:VEVENT
UID:b5824214-94d4-11ed-9725-0ace1bdebf95
DTSTAMP:20230115T130121Z
SUMMARY:Sip & Paint - Feb. 10th
URL;VALUE=URI:https://www.wildernesslakecdd.org/calendar/3668363/sip-paint-
 feb-10th
DTSTART:20230210T230000Z
DTEND:20230211T013000Z
END:VEVENT
END:VCALENDAR
