BEGIN:VCALENDAR
VERSION:2.0
PRODID:SchoolNow
CALSCALE:GREGORIAN
BEGIN:VEVENT
UID:7e556b54-94d4-11ed-95df-0ace1bdebf95
DTSTAMP:20230115T125949Z
SUMMARY:ARC Meeting - Feb 27th
URL;VALUE=URI:https://www.wildernesslakecdd.org/calendar/3668362/arc-meetin
 g-feb-27th
DTSTART:20230227T233000Z
DTEND:20230228T003000Z
END:VEVENT
END:VCALENDAR
