BEGIN:VCALENDAR
VERSION:2.0
PRODID:SchoolNow
CALSCALE:GREGORIAN
BEGIN:VEVENT
UID:6c7710e0-94d4-11ed-902b-0ace1bdebf95
DTSTAMP:20230115T125919Z
SUMMARY:ARC Meeting - Feb 13th
URL;VALUE=URI:https://www.wildernesslakecdd.org/calendar/3668361/arc-meetin
 g-feb-13th
DTSTART:20230213T233000Z
DTEND:20230214T003000Z
END:VEVENT
END:VCALENDAR
