BEGIN:VCALENDAR
VERSION:2.0
PRODID:SchoolNow
CALSCALE:GREGORIAN
BEGIN:VEVENT
UID:4999a394-94d4-11ed-8d3d-0ace1bdebf95
DTSTAMP:20230115T125820Z
SUMMARY:Mahjong - Feb. 27th
URL;VALUE=URI:https://www.wildernesslakecdd.org/calendar/3668360/mahjong-fe
 b-27th
DTSTART:20230227T180000Z
DTEND:20230227T200000Z
END:VEVENT
END:VCALENDAR
