BEGIN:VCALENDAR
VERSION:2.0
PRODID:SchoolNow
CALSCALE:GREGORIAN
BEGIN:VEVENT
UID:36a70cb8-94d4-11ed-bd4e-0ace1bdebf95
DTSTAMP:20230115T125748Z
SUMMARY:Mahjong - Feb. 20th
URL;VALUE=URI:https://www.wildernesslakecdd.org/calendar/3668359/mahjong-fe
 b-20th
DTSTART:20230220T180000Z
DTEND:20230220T200000Z
END:VEVENT
END:VCALENDAR
