BEGIN:VCALENDAR
VERSION:2.0
PRODID:SchoolNow
CALSCALE:GREGORIAN
BEGIN:VEVENT
UID:280daed2-94d4-11ed-ab9d-0ace1bdebf95
DTSTAMP:20230115T125724Z
SUMMARY:Mahjong - Feb. 13th
URL;VALUE=URI:https://www.wildernesslakecdd.org/calendar/3668358/mahjong-fe
 b-13th
DTSTART:20230213T180000Z
DTEND:20230213T200000Z
END:VEVENT
END:VCALENDAR
