BEGIN:VCALENDAR
VERSION:2.0
PRODID:SchoolNow
CALSCALE:GREGORIAN
BEGIN:VEVENT
UID:183d2276-94d4-11ed-9b89-0ace1bdebf95
DTSTAMP:20230115T125657Z
SUMMARY:Mahjong - Feb. 6th
URL;VALUE=URI:https://www.wildernesslakecdd.org/calendar/3668357/mahjong-fe
 b-6th
DTSTART:20230206T180000Z
DTEND:20230206T200000Z
END:VEVENT
END:VCALENDAR
