BEGIN:VCALENDAR
VERSION:2.0
PRODID:SchoolNow
CALSCALE:GREGORIAN
BEGIN:VEVENT
UID:9c631232-94d3-11ed-9e7e-02c37e40c7c3
DTSTAMP:20230115T125330Z
SUMMARY:Card Games - Feb. 22nd
URL;VALUE=URI:https://www.wildernesslakecdd.org/calendar/3668356/card-games
 -feb-22nd
DTSTART:20230222T180000Z
DTEND:20230222T200000Z
END:VEVENT
END:VCALENDAR
