BEGIN:VCALENDAR
VERSION:2.0
PRODID:SchoolNow
CALSCALE:GREGORIAN
BEGIN:VEVENT
UID:8538cc78-94d3-11ed-be68-02c37e40c7c3
DTSTAMP:20230115T125251Z
SUMMARY:Card Games - Feb. 15th
URL;VALUE=URI:https://www.wildernesslakecdd.org/calendar/3668355/card-games
 -feb-15th
DTSTART:20230215T180000Z
DTEND:20230215T200000Z
END:VEVENT
END:VCALENDAR
