BEGIN:VCALENDAR
VERSION:2.0
PRODID:SchoolNow
CALSCALE:GREGORIAN
BEGIN:VEVENT
UID:6c8d3f9c-94d3-11ed-939b-02c37e40c7c3
DTSTAMP:20230115T125209Z
SUMMARY:Card Games - Feb. 8th
URL;VALUE=URI:https://www.wildernesslakecdd.org/calendar/3668354/card-games
 -feb-8th
DTSTART:20230208T180000Z
DTEND:20230208T200000Z
END:VEVENT
END:VCALENDAR
