BEGIN:VCALENDAR
VERSION:2.0
PRODID:SchoolNow
CALSCALE:GREGORIAN
BEGIN:VEVENT
UID:553ba978-94d3-11ed-bc5c-02c37e40c7c3
DTSTAMP:20230115T125222Z
SUMMARY:Card Games - Feb. 1st
URL;VALUE=URI:https://www.wildernesslakecdd.org/calendar/3668353/card-games
 -feb-1st
DTSTART:20230201T180000Z
DTEND:20230201T200000Z
END:VEVENT
END:VCALENDAR
