BEGIN:VCALENDAR
VERSION:2.0
PRODID:SchoolNow
CALSCALE:GREGORIAN
BEGIN:VEVENT
UID:197367d2-94d3-11ed-965c-02c37e40c7c3
DTSTAMP:20230115T124950Z
SUMMARY:Storytime - Feb. 27th
URL;VALUE=URI:https://www.wildernesslakecdd.org/calendar/3668352/storytime-
 feb-27th
DTSTART:20230227T150000Z
DTEND:20230227T160000Z
END:VEVENT
END:VCALENDAR
